BEGIN:VCALENDAR
VERSION:2.0
PRODID:-//Shillinger Law - ECPv6.15.20//NONSGML v1.0//EN
CALSCALE:GREGORIAN
METHOD:PUBLISH
X-ORIGINAL-URL:https://shillingerlaw.com
X-WR-CALDESC:Events for Shillinger Law
REFRESH-INTERVAL;VALUE=DURATION:PT1H
X-Robots-Tag:noindex
X-PUBLISHED-TTL:PT1H
BEGIN:VTIMEZONE
TZID:America/Los_Angeles
BEGIN:DAYLIGHT
TZOFFSETFROM:-0800
TZOFFSETTO:-0700
TZNAME:PDT
DTSTART:20240310T100000
END:DAYLIGHT
BEGIN:STANDARD
TZOFFSETFROM:-0700
TZOFFSETTO:-0800
TZNAME:PST
DTSTART:20241103T090000
END:STANDARD
BEGIN:DAYLIGHT
TZOFFSETFROM:-0800
TZOFFSETTO:-0700
TZNAME:PDT
DTSTART:20250309T100000
END:DAYLIGHT
BEGIN:STANDARD
TZOFFSETFROM:-0700
TZOFFSETTO:-0800
TZNAME:PST
DTSTART:20251102T090000
END:STANDARD
BEGIN:DAYLIGHT
TZOFFSETFROM:-0800
TZOFFSETTO:-0700
TZNAME:PDT
DTSTART:20260308T100000
END:DAYLIGHT
BEGIN:STANDARD
TZOFFSETFROM:-0700
TZOFFSETTO:-0800
TZNAME:PST
DTSTART:20261101T090000
END:STANDARD
END:VTIMEZONE
BEGIN:VEVENT
DTSTART;TZID=America/Los_Angeles:20250117T120000
DTEND;TZID=America/Los_Angeles:20250117T130000
DTSTAMP:20260424T195354
CREATED:20250114T164438Z
LAST-MODIFIED:20250114T164934Z
UID:868-1737115200-1737118800@shillingerlaw.com
SUMMARY:Secure Your Legacy: Estate Planning for 2025 and Beyond
DESCRIPTION:Welcome to 2025—a year filled with fresh beginnings and empowered decision-making.  \nShillinger Law invites you to an informative estate planning event tailored for every stage of life\, ensuring you and your loved ones are prepared for the future. \nIn this session\, you’ll learn about: \n\nWhy estate planning is one of the best decisions for your family.\nHow to create your first estate plan or assist your parents with theirs to ensure everyone feels secure and informed.\nHow to have discussions with your children and grandchildren about preparing for their future financial security. (And how to have discussions with your aging parents about preparing their estate plan and healthcare wishes)\nWhy it’s important to keep your estate plans updated and the impact older estate plans can have on your current family values and goals.\n\nAttorney Löan Shillinger will guide you through these topics\, offering expertise and reassurance that you’re doing the best for your family. \nSpecial Offer: We’re pleased to invite all new participants to schedule a complimentary trust review with our dedicated team\, providing you with a personalized approach to securing your legacy. \nWho Should Attend: This event is perfect for parents\, grandparents\, business owners\, and anyone looking to ensure a secure future for their families.  \nDetails\nLocation: Paradise Village\, a Generations Community\, 2700 E 4th St\, National City\, CA 91950 \nDate: January 17\, 2025 \nTime: Noon – 1 pm \n  \nLet 2025 be the year of thoughtful action and meaningful legacy-building. We’re excited to guide you on this journey!
URL:https://shillingerlaw.com/event/estate-planning-for-2025-paradise/
LOCATION:Paradise Village\, a Generations Community\, 2700 E 4th St.\, National City\, CA\, 91950
ATTACH;FMTTYPE=image/png:https://shillingerlaw.com/wp-content/uploads/2025/01/SL-Jan-2025-SLRS-1.png
END:VEVENT
END:VCALENDAR