BEGIN:VCALENDAR
VERSION:2.0
PRODID:-//Shillinger Law - ECPv6.15.20//NONSGML v1.0//EN
CALSCALE:GREGORIAN
METHOD:PUBLISH
X-ORIGINAL-URL:https://shillingerlaw.com
X-WR-CALDESC:Events for Shillinger Law
REFRESH-INTERVAL;VALUE=DURATION:PT1H
X-Robots-Tag:noindex
X-PUBLISHED-TTL:PT1H
BEGIN:VTIMEZONE
TZID:America/Los_Angeles
BEGIN:DAYLIGHT
TZOFFSETFROM:-0800
TZOFFSETTO:-0700
TZNAME:PDT
DTSTART:20230312T100000
END:DAYLIGHT
BEGIN:STANDARD
TZOFFSETFROM:-0700
TZOFFSETTO:-0800
TZNAME:PST
DTSTART:20231105T090000
END:STANDARD
BEGIN:DAYLIGHT
TZOFFSETFROM:-0800
TZOFFSETTO:-0700
TZNAME:PDT
DTSTART:20240310T100000
END:DAYLIGHT
BEGIN:STANDARD
TZOFFSETFROM:-0700
TZOFFSETTO:-0800
TZNAME:PST
DTSTART:20241103T090000
END:STANDARD
BEGIN:DAYLIGHT
TZOFFSETFROM:-0800
TZOFFSETTO:-0700
TZNAME:PDT
DTSTART:20250309T100000
END:DAYLIGHT
BEGIN:STANDARD
TZOFFSETFROM:-0700
TZOFFSETTO:-0800
TZNAME:PST
DTSTART:20251102T090000
END:STANDARD
END:VTIMEZONE
BEGIN:VEVENT
DTSTART;TZID=America/Los_Angeles:20240712T120000
DTEND;TZID=America/Los_Angeles:20240712T130000
DTSTAMP:20260424T213518
CREATED:20240706T094120Z
LAST-MODIFIED:20240712T122545Z
UID:810-1720785600-1720789200@shillingerlaw.com
SUMMARY:Summer Safety: How to Minimize the Effects of Hot Weather
DESCRIPTION:As summer approaches\, it’s crucial to be prepared for the rising temperatures. Sadly\, too many instances of people ending up in the hospital or passing away due to heat-related issues occur each year. Learn essential tips on preparing for the heat and avoiding harmful effects if you’re not feeling well. \nIf you live alone or have friends or loved ones who do\, this session is especially important. \nFor this special session\, join Attorney Shillinger\, the Newly Appointed Fire Chief\, Robert Logan\, and a frontline responder who answers these critical calls. \nIn this bonus session\, learn how to avoid heat-related emergencies\, minimize such incidents\, and help each other and our community stay safe and healthy during hot weather. \nDon’t wait\, register today! We look forward to seeing you there!
URL:https://shillingerlaw.com/event/summer-safety-how-to-minimize-the-effects-of-hot-weather/
LOCATION:George Stevens Senior Center\, 570 S 65th St.\, San Diego\, CA\, 92114\, United States
ATTACH;FMTTYPE=image/png:https://shillingerlaw.com/wp-content/uploads/2024/07/Shillinger-Law-Heat-Safety-Event-Flyer-2160-x-1080-px-2.png
END:VEVENT
BEGIN:VEVENT
DTSTART;TZID=America/Los_Angeles:20240719T120000
DTEND;TZID=America/Los_Angeles:20240719T130000
DTSTAMP:20260424T213518
CREATED:20240718T141901Z
LAST-MODIFIED:20240718T141901Z
UID:828-1721390400-1721394000@shillingerlaw.com
SUMMARY:Understanding Veterans Affairs: Navigating Benefits and Resources
DESCRIPTION:Navigating the VA system can be a daunting task\, so this is a special session for our community of veterans and their families in San Diego. This month\, Shillinger Law is giving a nod to all the military and veterans in our community by bringing in a guest speaker to help demystify the process. \nWe are honored to have Nathan Sutton join us for this month’s Shillinger Law Resource Series session. Nathan served eight years in the Marine Corps as a Combat Engineer with three tours in Iraq. He has worked as a Veteran Service Officer for four years and for the VA for 12 years\, helping veterans file over 15\,000 VA claims. Nathan has also started nonprofits that serve veterans and is currently a Business Development Consultant for organizations that assist veterans in accessing the benefits and care they deserve. \nIn this session\, you’ll learn: \n\nThe complexities of the VA system and how to navigate it effectively.\nKey tips and strategies to get the most out of the VA system.\nHow to leverage available resources to support veterans and their families.\n\nDon’t miss this opportunity to gain invaluable insights from an expert with firsthand experience. We look forward to seeing you there! \nRegister today!
URL:https://shillingerlaw.com/event/understanding-veterans-affairs-navigating-benefits-and-resources/
ATTACH;FMTTYPE=image/png:https://shillingerlaw.com/wp-content/uploads/2024/07/Shillinger-Law-VA-Event-1080-x-540-px.png
END:VEVENT
END:VCALENDAR