BEGIN:VCALENDAR
VERSION:2.0
PRODID:-//Shillinger Law - ECPv6.15.20//NONSGML v1.0//EN
CALSCALE:GREGORIAN
METHOD:PUBLISH
X-ORIGINAL-URL:https://shillingerlaw.com
X-WR-CALDESC:Events for Shillinger Law
REFRESH-INTERVAL;VALUE=DURATION:PT1H
X-Robots-Tag:noindex
X-PUBLISHED-TTL:PT1H
BEGIN:VTIMEZONE
TZID:America/Los_Angeles
BEGIN:DAYLIGHT
TZOFFSETFROM:-0800
TZOFFSETTO:-0700
TZNAME:PDT
DTSTART:20230312T100000
END:DAYLIGHT
BEGIN:STANDARD
TZOFFSETFROM:-0700
TZOFFSETTO:-0800
TZNAME:PST
DTSTART:20231105T090000
END:STANDARD
BEGIN:DAYLIGHT
TZOFFSETFROM:-0800
TZOFFSETTO:-0700
TZNAME:PDT
DTSTART:20240310T100000
END:DAYLIGHT
BEGIN:STANDARD
TZOFFSETFROM:-0700
TZOFFSETTO:-0800
TZNAME:PST
DTSTART:20241103T090000
END:STANDARD
BEGIN:DAYLIGHT
TZOFFSETFROM:-0800
TZOFFSETTO:-0700
TZNAME:PDT
DTSTART:20250309T100000
END:DAYLIGHT
BEGIN:STANDARD
TZOFFSETFROM:-0700
TZOFFSETTO:-0800
TZNAME:PST
DTSTART:20251102T090000
END:STANDARD
BEGIN:DAYLIGHT
TZOFFSETFROM:-0800
TZOFFSETTO:-0700
TZNAME:PDT
DTSTART:20260308T100000
END:DAYLIGHT
BEGIN:STANDARD
TZOFFSETFROM:-0700
TZOFFSETTO:-0800
TZNAME:PST
DTSTART:20261101T090000
END:STANDARD
BEGIN:DAYLIGHT
TZOFFSETFROM:-0800
TZOFFSETTO:-0700
TZNAME:PDT
DTSTART:20270314T100000
END:DAYLIGHT
BEGIN:STANDARD
TZOFFSETFROM:-0700
TZOFFSETTO:-0800
TZNAME:PST
DTSTART:20271107T090000
END:STANDARD
END:VTIMEZONE
BEGIN:VEVENT
DTSTART;TZID=America/Los_Angeles:20241115T120000
DTEND;TZID=America/Los_Angeles:20241115T130000
DTSTAMP:20260425T060224
CREATED:20241107T151113Z
LAST-MODIFIED:20241107T151113Z
UID:862-1731672000-1731675600@shillingerlaw.com
SUMMARY:Trust\, Now What
DESCRIPTION:Calling All Trust Owners & Successor Trustees: Join Our Online Event – “Trust\, Now What!”\nHave you established a trust for your loved ones? Whether you have a trust\, are named in a trust\, or need to create a trust\, you absolutely must attend this event. We understand that navigating trusts and their responsibilities can feel overwhelming\, especially as we age. \nThat’s why Shillinger Law invites you to a special online Shillinger Law Resource Series session\, designed specifically for trust owners and successor trustees like you: “Trust\, Now What?”. \nWe’ll come together to review your understanding of trusts\, address any lingering questions\, and gain valuable insights to confidently manage our roles. \nHere’s why joining us for “Trust\, Now What?” can make a world of difference: \n\nClarify Your Trust: Gain a clear understanding of your trust\, its provisions and ensure it aligns with your current needs and wishes.\nKnowledge is Power: Learn the essential steps of trust administration\, so you can manage assets\, communicate with beneficiaries\, and navigate future challenges with confidence.\nGet the Answers You Need: Have your questions answered by our expert in a warm and supportive online environment\, leaving no room for confusion.\nBe Prepared: Learn practical tips and tools to effectively handle your trust administration responsibilities with efficiency and peace of mind.\n\nWhether you’ve had a trust for a while or a new successor trustee\, this event offers valuable insights so you’re prepared and taking the steps to secure your future. Join us for “Trust\, Now What?” and equip yourself to confidently navigate the journey of trust administration. \nThe event will be held online\, making it convenient and accessible from the comfort of your home! \n  \nDetails: \nDate: November 15\, 2024 \nTime: 12:00 PM – 1:00 PM \nLocation: Online \nReserve your spot today!
URL:https://shillingerlaw.com/event/trust-now-what/
LOCATION:Online
CATEGORIES:Trusts
ATTACH;FMTTYPE=image/png:https://shillingerlaw.com/wp-content/uploads/2024/11/2.png
END:VEVENT
BEGIN:VEVENT
DTSTART;TZID=America/Los_Angeles:20250117T120000
DTEND;TZID=America/Los_Angeles:20250117T130000
DTSTAMP:20260425T060224
CREATED:20250114T164438Z
LAST-MODIFIED:20250114T164934Z
UID:868-1737115200-1737118800@shillingerlaw.com
SUMMARY:Secure Your Legacy: Estate Planning for 2025 and Beyond
DESCRIPTION:Welcome to 2025—a year filled with fresh beginnings and empowered decision-making.  \nShillinger Law invites you to an informative estate planning event tailored for every stage of life\, ensuring you and your loved ones are prepared for the future. \nIn this session\, you’ll learn about: \n\nWhy estate planning is one of the best decisions for your family.\nHow to create your first estate plan or assist your parents with theirs to ensure everyone feels secure and informed.\nHow to have discussions with your children and grandchildren about preparing for their future financial security. (And how to have discussions with your aging parents about preparing their estate plan and healthcare wishes)\nWhy it’s important to keep your estate plans updated and the impact older estate plans can have on your current family values and goals.\n\nAttorney Löan Shillinger will guide you through these topics\, offering expertise and reassurance that you’re doing the best for your family. \nSpecial Offer: We’re pleased to invite all new participants to schedule a complimentary trust review with our dedicated team\, providing you with a personalized approach to securing your legacy. \nWho Should Attend: This event is perfect for parents\, grandparents\, business owners\, and anyone looking to ensure a secure future for their families.  \nDetails\nLocation: Paradise Village\, a Generations Community\, 2700 E 4th St\, National City\, CA 91950 \nDate: January 17\, 2025 \nTime: Noon – 1 pm \n  \nLet 2025 be the year of thoughtful action and meaningful legacy-building. We’re excited to guide you on this journey!
URL:https://shillingerlaw.com/event/estate-planning-for-2025-paradise/
LOCATION:Paradise Village\, a Generations Community\, 2700 E 4th St.\, National City\, CA\, 91950
ATTACH;FMTTYPE=image/png:https://shillingerlaw.com/wp-content/uploads/2025/01/SL-Jan-2025-SLRS-1.png
END:VEVENT
BEGIN:VEVENT
DTSTART;TZID=America/Los_Angeles:20250131T120000
DTEND;TZID=America/Los_Angeles:20250131T130000
DTSTAMP:20260425T060224
CREATED:20250114T165235Z
LAST-MODIFIED:20250114T165235Z
UID:876-1738324800-1738328400@shillingerlaw.com
SUMMARY:Secure Your Legacy: Estate Planning for 2025 and Beyond (George Stevens)
DESCRIPTION:Welcome to 2025—a year filled with fresh beginnings and empowered decision-making.  \nShillinger Law invites you to an informative estate planning event tailored for every stage of life\, ensuring you and your loved ones are prepared for the future. \nIn this session\, you’ll learn about: \n\nWhy estate planning is one of the best decisions for your family.\nHow to create your first estate plan or assist your parents with theirs to ensure everyone feels secure and informed.\nHow to have discussions with your children and grandchildren about preparing for their future financial security. (And how to have discussions with your aging parents about preparing their estate plan and healthcare wishes)\nWhy it’s important to keep your estate plans updated and the impact older estate plans can have on your current family values and goals.\n\nAttorney Löan Shillinger will guide you through these topics\, offering expertise and reassurance that you’re doing the best for your family. \nSpecial Offer: We’re pleased to invite all new participants to schedule a complimentary trust review with our dedicated team\, providing you with a personalized approach to securing your legacy. \nWho Should Attend: This event is perfect for parents\, grandparents\, business owners\, and anyone looking to ensure a secure future for their families.  \nDetails\nLocation: George Stevens Senior Center\, 570 S 65th St.\, San Diego\, CA 92114 \nDate: January 31\, 2025 \nTime: Noon – 1 pm \n  \nLet 2025 be the year of thoughtful action and meaningful legacy-building. We’re excited to guide you on this journey!
URL:https://shillingerlaw.com/event/ecure-your-legacy-estate-planning-for-2025-and-beyond-george-stevens/
LOCATION:George Stevens Senior Center\, 570 S 65th St.\, San Diego\, CA\, 92114\, United States
ATTACH;FMTTYPE=image/png:https://shillingerlaw.com/wp-content/uploads/2025/01/SL-Jan-2025-SLRS-.png
END:VEVENT
BEGIN:VEVENT
DTSTART;TZID=America/Los_Angeles:20250221T130000
DTEND;TZID=America/Los_Angeles:20250221T140000
DTSTAMP:20260425T060224
CREATED:20250205T182439Z
LAST-MODIFIED:20250205T182439Z
UID:880-1740142800-1740146400@shillingerlaw.com
SUMMARY:Shillinger Law Resource Series: Your Estate Planning Questions – Answered
DESCRIPTION:Estate planning doesn’t have to be confusing or overwhelming. We’re here to make it simple. \nJoin us for this special Shillinger Law Resource Series event\, where we’re answering the top 10 estate planning questions we hear most often—from trusts and wills to power of attorney\, healthcare directives\, probate\, and more. \nHave a question? This is your chance to get answers in a clear\, approachable way. \nIn this interactive session\, we’ll cover:\n✔️ The most frequently asked estate planning questions\n✔️ What’s involved in the process and what to expect\n✔️ How to select a power of attorney and set up healthcare directives\n✔️ How to make sure your wishes are honored \nEvent Details: \n📍 Location: Join Us Online (Zoom link provided upon registration)\n📅 Date:  February 21\, 2025\n🕛 Time: 1 PM – 2 PM\n \nYour future—and your family’s security—deserve thoughtful planning. Join us for this session and take control of your estate planning with confidence. \n>> Register today!
URL:https://shillingerlaw.com/event/your-estate-planning-questions-answered/
LOCATION:Online
ATTACH;FMTTYPE=image/png:https://shillingerlaw.com/wp-content/uploads/2025/02/SL-Feb-2025-SLRS-1920-x-1080-1.png
END:VEVENT
BEGIN:VEVENT
DTSTART;TZID=America/Los_Angeles:20250320T103000
DTEND;TZID=America/Los_Angeles:20250320T130000
DTSTAMP:20260425T060224
CREATED:20250314T031414Z
LAST-MODIFIED:20250314T031414Z
UID:888-1742466600-1742475600@shillingerlaw.com
SUMMARY:Authoring Your Final Chapter: Understanding Your End-of-Life Options
DESCRIPTION:Your wisdom and life experience deserve respect\, especially when planning your final journey. Join us for this essential conversation about how to maintain control\, dignity\, and personal choice during life’s final chapter. \nAttorney Löan Shillinger of Shillinger Law and Dr. Bob Uslander\, co-founder of Empowered Endings and expert in palliative and end-of-life care\, will guide you through a compassionate\, informative discussion about the full spectrum of legal and medical options available to you. \nWhat You’ll Learn:\n\nLegal end-of-life care options currently available in California\nUnderstanding palliative care\, hospice\, and other compassionate approaches\nInformation about end-of-life options such as Medical Aid in Dying (MAiD)\nHow to have meaningful conversations with loved ones about your wishes\nWays to ensure your healthcare providers honor your choices\n\nWhy Attend:\nWhether you’re planning for yourself or supporting aging parents\, this event provides essential knowledge to navigate end-of-life decisions with confidence and peace of mind. You’ll leave with a clearer understanding of how to ensure your voice is heard when it matters most. \nDr. Uslander brings over 30 years of experience in Emergency\, Palliative\, and End-of-Life Care\, while Attorney Shillinger offers expert guidance on the legal aspects of protecting your wishes. \nAbout Dr. Uslander \nDr. Bob Uslander is the co-founder and medical director of Empowered Endings\, based in San Diego. He is a pioneer physician leading a movement to shift the paradigm of End of Life Care by supporting\, guiding and teaching an empowered approach to Palliative and End of Life Care. With over 35 years of experience as a physician in emergency medicine\, palliative care\, and hospice care—he leads the Empowered Endings Medical Group\, providing compassionate\, holistic\, in-home care to patients\, while guiding and supporting their families and loved ones. He’s a passionate advocate\, loving husband and father\, and adventurer in life. \nQ&A Session Included\nBring your questions! Following the presentation\, our speakers will address your specific concerns in a supportive environment. \nSpace is limited\, so please register today to secure your spot. We look forward to welcoming you to this important conversation. \nRegister today!>> \n 
URL:https://shillingerlaw.com/event/authoring-your-final-chapter/
LOCATION:Paradise Village\, a Generations Community\, 2700 E 4th St.\, National City\, CA\, 91950
ATTACH;FMTTYPE=image/png:https://shillingerlaw.com/wp-content/uploads/2025/03/1.png
END:VEVENT
BEGIN:VEVENT
DTSTART;TZID=America/Los_Angeles:20250321T130000
DTEND;TZID=America/Los_Angeles:20250321T140000
DTSTAMP:20260425T060224
CREATED:20250314T030944Z
LAST-MODIFIED:20250314T031541Z
UID:885-1742562000-1742565600@shillingerlaw.com
SUMMARY:Shillinger Law Resource Series: Empowering Your Healthcare Decisions
DESCRIPTION:In preparation for Advanced Healthcare Directive Month in April\, join Attorney Löan Shillinger for this important follow-up session to our conversation with Dr. Uslander. \nThis in-person gathering at Paradise Village will address your questions about compassionate care\, dignity in healthcare choices\, and the legal documents that ensure your wishes are honored. \nJoin us at Paradise Village the day after our session with Dr. Uslander to continue this important conversation about protecting your healthcare wishes. \nWe understand that navigating end-of-life decisions can feel overwhelming\, so we’ve created this supportive environment to answer your specific questions. \nWhat We’ll Explore:\n\nFollow-up discussion on topics presented by Dr. Uslander the previous day\nHow to choose a trusted healthcare agent who will advocate for your wishes\nSimple\, clear explanation of Advanced Healthcare Directives and their importance\nPractical steps to document your preferences properly\n\nWhy This Matters:\nUnderstanding your healthcare options gives you peace of mind and ensures your voice will be heard even if you cannot speak for yourself. Whether you’re planning for yourself or supporting a loved one\, this session provides clear information in plain language\, without complicated legal terms. \nNo question is too basic or complex—we’re here to help you confidently navigate these important life decisions. \nSpace is limited\, so please register today. \n>> Register today!
URL:https://shillingerlaw.com/event/shillinger-law-resource-series-empowering-your-healthcare-decisions/
LOCATION:Paradise Village\, a Generations Community\, 2700 E 4th St.\, National City\, CA\, 91950
ATTACH;FMTTYPE=image/png:https://shillingerlaw.com/wp-content/uploads/2025/03/2.png
END:VEVENT
BEGIN:VEVENT
DTSTART;TZID=America/Los_Angeles:20250425T130000
DTEND;TZID=America/Los_Angeles:20250425T140000
DTSTAMP:20260425T060224
CREATED:20250419T015727Z
LAST-MODIFIED:20250419T015727Z
UID:893-1745586000-1745589600@shillingerlaw.com
SUMMARY:Shillinger Law Resource Series: Spring Cleaning for Your Legal Life
DESCRIPTION:Spring is the perfect time to reset\, and that includes your legal documents. \nIf you’ve been meaning to review old paperwork\, update key documents\, or just get a better understanding of what’s necessary and what’s not\, this session is for you. \nJoin Attorney Löan Shillinger for this in-person Shillinger Law Resource Series session as she guides you through how to organize your legal life with clarity and confidence. Whether you’re managing your own planning or helping a loved one\, this session will give you peace of mind and direction. \nWhat We’ll Cover:\n\n What legal documents you should keep\, and for how long\nWhat can be safely discarded or digitized\nHow to organize your records for clarity and accessibility\nTips for updating your estate plan to reflect your current wishes\nA short refresher on Healthcare Directives and how to ensure yours is up to date\n\nWhy This Matters:\nSorting through paperwork can feel overwhelming\, but knowing what to keep\, what to let go of\, and how to keep things current makes all the difference. \nWhether you’re just starting to think about estate planning or looking to clean up and simplify what you already have\, this session offers straightforward guidance in a supportive\, community setting. \nDesigned especially for older adults\, senior residents\, and adult children\, this session includes printed take-home materials and time for Q&A with Attorney Shillinger. \nSpace is limited\, reserve your seat today and take the first step toward greater peace of mind. \n>> Register today!
URL:https://shillingerlaw.com/event/spring-cleaning-for-your-legal-life/
LOCATION:George Stevens Senior Center\, 570 S 65th St.\, San Diego\, CA\, 92114\, United States
ATTACH;FMTTYPE=image/png:https://shillingerlaw.com/wp-content/uploads/2025/04/SL-April-2025-SLRS-2160-x-1080-px.png
END:VEVENT
BEGIN:VEVENT
DTSTART;TZID=America/Los_Angeles:20251121T130000
DTEND;TZID=America/Los_Angeles:20251121T140000
DTSTAMP:20260425T060224
CREATED:20251118T062432Z
LAST-MODIFIED:20251118T062432Z
UID:909-1763730000-1763733600@shillingerlaw.com
SUMMARY:Trust\, Now What
DESCRIPTION:Calling All Trust Owners & Successor Trustees: Join Our Online Event – Trust\, Now What!\nHave you established a trust for your loved ones? Whether you have a trust or are named in a trust\, this event is specifically designed for you. We understand that navigating trusts and their responsibilities can feel overwhelming\, especially as we age. \nThat’s why Shillinger Law invites you to a special online Shillinger Law Resource Series session\, designed specifically for trust owners and successor trustees like you: “Trust\, Now What?”. \nWe’ll come together to review your understanding of trusts\, address any lingering questions\, and gain valuable insights to confidently manage our roles. \nHere’s why joining us for Trust\, Now What? can make a world of difference: Whether you’ve had a trust for a while or have a new successor trustee\, this event offers valuable insights so you’re prepared and taking the steps to secure your future. \n\nClarify Your Trust: Gain a clear understanding of your trust\, its provisions and ensure it aligns with your current needs and wishes.\nKnowledge is Power: Learn the essential steps of trust administration\, so you can manage assets\, communicate with beneficiaries\, and navigate future challenges with confidence.\nGet the Answers You Need: Have your questions answered by our expert in a warm and supportive online environment\, leaving no room for confusion.\nBe Prepared: Learn practical tips and tools to effectively handle your trust administration responsibilities with efficiency and peace of mind.\n\nWhether you’ve had a trust for a while or have a new successor trustee\, this event offers valuable insights so you’re prepared and taking the steps to secure your future. Join us for “Trust\, Now What?” and empower yourself to confidently navigate the journey of trust administration. \nThe event will be held online\, making it convenient and accessible from the comfort of your home! \nImportant Note: This session is exclusively for current trust owners and successor trustees. If you don’t have a trust or are not a successor trustee\, please note that we will have an Estate Planning 101 session just for you in January. \nDetails: \nDate: November 21\, 2025 \nTime: 1:00 PM – 2:00 PM \nLocation: Online \nReserve your spot today!
URL:https://shillingerlaw.com/event/trust-now-what-november-2025/
LOCATION:Online
ATTACH;FMTTYPE=image/png:https://shillingerlaw.com/wp-content/uploads/2025/11/SL-Nov-25-Clients-SLRS-2160-x-1080-px.png
END:VEVENT
BEGIN:VEVENT
DTSTART;TZID=America/Los_Angeles:20260319T120000
DTEND;TZID=America/Los_Angeles:20260319T130000
DTSTAMP:20260425T060224
CREATED:20260227T023319Z
LAST-MODIFIED:20260227T184142Z
UID:914-1773921600-1773925200@shillingerlaw.com
SUMMARY:Estate Planning & Probate: Protecting What Matters Most.
DESCRIPTION:Welcome to the Shillinger Law Resource Series: Estate Planning & Probate: Protecting What Matters Most. \nAt Shillinger Law\, we believe estate planning is one of the best decisions you can make for your family. This month\, we’re diving deeper into understanding the complete picture\, how your estate plan connects to probate and what that means for your loved ones. \nIn this informative session\, Attorney Löan Shillinger will guide you through these essential topics\, offering expertise and reassurance that you’re doing the best for your family. \nIn this session\, you’ll learn: \n✔️ Why estate planning is one of the best decisions for your family\n✔️ What probate really is and when it happens\n✔️ How a well-planned estate can help your family navigate probate more smoothly\n✔️ The connection between your overall estate plan and the probate process\n✔️ Practical steps to protect your assets and ensure your wishes are honored \nWhy This Matters: \nUnderstanding how estate planning and probate work together gives you peace of mind and ensures your family isn’t left navigating a complex process during an already difficult time. Whether you’re creating your first plan\, assisting your aging parents\, or updating a plan from years ago\, this session provides the clarity and confidence you need. \nWho Should Attend: \nThis event is perfect for parents\, grandparents\, adult children caring for aging loved ones\, business owners\, and anyone looking to ensure a secure future for their families. \nEvent Details: \n📍 Location: Online (Zoom link provided upon registration)\n📅 Date: March 19\, 2026\n🕛 Time: 12:00 – 1:00pm \nRegister today!
URL:https://shillingerlaw.com/event/estate-planning-probate-protecting-what-matters-most/
LOCATION:Online
ATTACH;FMTTYPE=image/png:https://shillingerlaw.com/wp-content/uploads/2026/02/SLRS-Feb-26-2160-x-1080-px.png
END:VEVENT
END:VCALENDAR