BEGIN:VCALENDAR
VERSION:2.0
PRODID:-//Shillinger Law - ECPv6.15.20//NONSGML v1.0//EN
CALSCALE:GREGORIAN
METHOD:PUBLISH
X-ORIGINAL-URL:https://shillingerlaw.com
X-WR-CALDESC:Events for Shillinger Law
REFRESH-INTERVAL;VALUE=DURATION:PT1H
X-Robots-Tag:noindex
X-PUBLISHED-TTL:PT1H
BEGIN:VTIMEZONE
TZID:America/Los_Angeles
BEGIN:DAYLIGHT
TZOFFSETFROM:-0800
TZOFFSETTO:-0700
TZNAME:PDT
DTSTART:20230312T100000
END:DAYLIGHT
BEGIN:STANDARD
TZOFFSETFROM:-0700
TZOFFSETTO:-0800
TZNAME:PST
DTSTART:20231105T090000
END:STANDARD
BEGIN:DAYLIGHT
TZOFFSETFROM:-0800
TZOFFSETTO:-0700
TZNAME:PDT
DTSTART:20240310T100000
END:DAYLIGHT
BEGIN:STANDARD
TZOFFSETFROM:-0700
TZOFFSETTO:-0800
TZNAME:PST
DTSTART:20241103T090000
END:STANDARD
BEGIN:DAYLIGHT
TZOFFSETFROM:-0800
TZOFFSETTO:-0700
TZNAME:PDT
DTSTART:20250309T100000
END:DAYLIGHT
BEGIN:STANDARD
TZOFFSETFROM:-0700
TZOFFSETTO:-0800
TZNAME:PST
DTSTART:20251102T090000
END:STANDARD
END:VTIMEZONE
BEGIN:VEVENT
DTSTART;TZID=America/Los_Angeles:20241115T120000
DTEND;TZID=America/Los_Angeles:20241115T130000
DTSTAMP:20260423T175750
CREATED:20241107T151113Z
LAST-MODIFIED:20241107T151113Z
UID:862-1731672000-1731675600@shillingerlaw.com
SUMMARY:Trust\, Now What
DESCRIPTION:Calling All Trust Owners & Successor Trustees: Join Our Online Event – “Trust\, Now What!”\nHave you established a trust for your loved ones? Whether you have a trust\, are named in a trust\, or need to create a trust\, you absolutely must attend this event. We understand that navigating trusts and their responsibilities can feel overwhelming\, especially as we age. \nThat’s why Shillinger Law invites you to a special online Shillinger Law Resource Series session\, designed specifically for trust owners and successor trustees like you: “Trust\, Now What?”. \nWe’ll come together to review your understanding of trusts\, address any lingering questions\, and gain valuable insights to confidently manage our roles. \nHere’s why joining us for “Trust\, Now What?” can make a world of difference: \n\nClarify Your Trust: Gain a clear understanding of your trust\, its provisions and ensure it aligns with your current needs and wishes.\nKnowledge is Power: Learn the essential steps of trust administration\, so you can manage assets\, communicate with beneficiaries\, and navigate future challenges with confidence.\nGet the Answers You Need: Have your questions answered by our expert in a warm and supportive online environment\, leaving no room for confusion.\nBe Prepared: Learn practical tips and tools to effectively handle your trust administration responsibilities with efficiency and peace of mind.\n\nWhether you’ve had a trust for a while or a new successor trustee\, this event offers valuable insights so you’re prepared and taking the steps to secure your future. Join us for “Trust\, Now What?” and equip yourself to confidently navigate the journey of trust administration. \nThe event will be held online\, making it convenient and accessible from the comfort of your home! \n  \nDetails: \nDate: November 15\, 2024 \nTime: 12:00 PM – 1:00 PM \nLocation: Online \nReserve your spot today!
URL:https://shillingerlaw.com/event/trust-now-what/
LOCATION:Online
CATEGORIES:Trusts
ATTACH;FMTTYPE=image/png:https://shillingerlaw.com/wp-content/uploads/2024/11/2.png
END:VEVENT
END:VCALENDAR