BEGIN:VCALENDAR
VERSION:2.0
PRODID:-//Shillinger Law - ECPv6.15.20//NONSGML v1.0//EN
CALSCALE:GREGORIAN
METHOD:PUBLISH
X-ORIGINAL-URL:https://shillingerlaw.com
X-WR-CALDESC:Events for Shillinger Law
REFRESH-INTERVAL;VALUE=DURATION:PT1H
X-Robots-Tag:noindex
X-PUBLISHED-TTL:PT1H
BEGIN:VTIMEZONE
TZID:America/Los_Angeles
BEGIN:DAYLIGHT
TZOFFSETFROM:-0800
TZOFFSETTO:-0700
TZNAME:PDT
DTSTART:20230312T100000
END:DAYLIGHT
BEGIN:STANDARD
TZOFFSETFROM:-0700
TZOFFSETTO:-0800
TZNAME:PST
DTSTART:20231105T090000
END:STANDARD
BEGIN:DAYLIGHT
TZOFFSETFROM:-0800
TZOFFSETTO:-0700
TZNAME:PDT
DTSTART:20240310T100000
END:DAYLIGHT
BEGIN:STANDARD
TZOFFSETFROM:-0700
TZOFFSETTO:-0800
TZNAME:PST
DTSTART:20241103T090000
END:STANDARD
BEGIN:DAYLIGHT
TZOFFSETFROM:-0800
TZOFFSETTO:-0700
TZNAME:PDT
DTSTART:20250309T100000
END:DAYLIGHT
BEGIN:STANDARD
TZOFFSETFROM:-0700
TZOFFSETTO:-0800
TZNAME:PST
DTSTART:20251102T090000
END:STANDARD
END:VTIMEZONE
BEGIN:VEVENT
DTSTART;TZID=America/Los_Angeles:20241018T120000
DTEND;TZID=America/Los_Angeles:20241018T130000
DTSTAMP:20260424T175607
CREATED:20241010T231810Z
LAST-MODIFIED:20241010T231810Z
UID:852-1729252800-1729256400@shillingerlaw.com
SUMMARY:Understanding Insurance for a Better Future
DESCRIPTION:We have an exciting October Shillinger Law Resource Series session planned. We’ll be joined by insurance expert Darryll T. Coleman\, an Agent with New York Life Insurance Company. Darryll will guide us through the ins and outs of insurance and the types of options available while answering those questions that can often leave us scratching our heads. \nHere’s what we’ll be covering: \n\nWe’ll explore the different types of insurance\, including pre-planning options\, long-term care\, and annuities\, and how they can benefit you as you age.\nWe’ll break down the enrollment process\, coverage options\, and how to maximize your benefits.\nDiscover how insurance can enhance your estate plan\, ensuring your legacy and financial security are well-protected.\n\nThis event is for you whether you’re actively planning for the future or simply seeking to understand these crucial matters.  \nJoin us in this enriching exploration of insurance for your future. We’ll provide you with the tools and understanding you need to feel confident and empowered in navigating the path ahead. \nDon’t miss this opportunity to gain valuable knowledge and shape a brighter future.  \nWe look forward to seeing you there! \nDate: October 18\, 2024  \nTime: 12:00 PM – 1:00 PM  \nLocation: George L. Stevens Senior Center\, 570 S 65th St\, San Diego\, CA 92114 \nReserve your spot today! \n 
URL:https://shillingerlaw.com/event/understanding-insurance-for-a-better-future/
LOCATION:George Stevens Senior Center\, 570 S 65th St.\, San Diego\, CA\, 92114\, United States
ATTACH;FMTTYPE=image/png:https://shillingerlaw.com/wp-content/uploads/2024/10/Shillinger-Law-October-Event-2160-x-1080-px-1.png
END:VEVENT
END:VCALENDAR